BEGIN:VCALENDAR
VERSION:2.0
PRODID:-//ChamberMaster//Event Calendar 2.0//EN
METHOD:PUBLISH
X-PUBLISHED-TTL:P3D
REFRESH-INTERVAL:P3D
CALSCALE:GREGORIAN
BEGIN:VEVENT
DTSTART:20140726T120000Z
DTEND:20140726T130000Z
X-MICROSOFT-CDO-ALLDAYEVENT:FALSE
SUMMARY:Pilates For Mediation Matters - 07/26/2014
DESCRIPTION:This is a 50 Minute Pilates Mat Class suitable for all levels. 100% of the donations will be given to the non-profit. \n There is no fee for the class. Donations will be accepted for a different non-profit organization each week. 100% of the donations will be given to the non-profit.  Donations must be made in the form of cash or check made out to the non-profit.\nNo credit cards accepted for this class.
X-ALT-DESC;FMTTYPE=text/html:<p>This is a 50 Minute Pilates Mat Class suitable for all levels. 100% of the donations will be given to the non-profit.</p><p>&nbsp\;</p>\n<p>&nbsp\;There is no fee for the class. Donations will be accepted for a different non-profit organization each week. 100% of the donations will be given to the non-profit.&nbsp\; Donations must be made in the form of cash or check made out to the non-profit.<br />No credit cards accepted for this class.</p>
LOCATION:Reform. A True Pilates Studio
UID:e.2254.3372
SEQUENCE:3
DTSTAMP:20260424T204951Z
URL:https://chamber.saratoga.org/events/details/pilates-for-mediation-matters-07-26-2014-07-26-2014-3372
END:VEVENT

END:VCALENDAR
