BEGIN:VCALENDAR
VERSION:2.0
PRODID:-//ChamberMaster//Event Calendar 2.0//EN
METHOD:PUBLISH
X-PUBLISHED-TTL:P3D
REFRESH-INTERVAL:P3D
CALSCALE:GREGORIAN
BEGIN:VEVENT
DTSTART:20151121T160000Z
DTEND:20151121T170000Z
X-MICROSOFT-CDO-ALLDAYEVENT:FALSE
SUMMARY:Pilates For Leukemia & Lymphoma Society
DESCRIPTION:Join us for our Pilates for A Purpose class on Saturday November 21st.  The class will be accepting donations for The Leukemia & Lymphoma Society.   This is a 50 minute Pilates Mat Class suitable for all levels.   Bring a mat if you have one. Please show up a few minutes early to fill out paperwork if you are new to the studio.
X-ALT-DESC;FMTTYPE=text/html:Join us for our Pilates for A Purpose class on Saturday November 21st.&nbsp\; The class will be accepting donations for The Leukemia &amp\; Lymphoma Society.&nbsp\; &nbsp\;This is a 50 minute Pilates Mat Class suitable for all levels.&nbsp\; &nbsp\;Bring a mat if you have one. Please show up a few minutes early to fill out paperwork if you are new to the studio.
LOCATION:Reform Pilates Club 18 Division st Suite 203 Saratoga Springs NY
UID:e.2254.12736
SEQUENCE:3
DTSTAMP:20260422T103949Z
URL:https://chamber.saratoga.org/events/details/pilates-for-leukemia-lymphoma-society-11-21-2015-12736
END:VEVENT

END:VCALENDAR
