BEGIN:VCALENDAR
VERSION:2.0
PRODID:-//ChamberMaster//Event Calendar 2.0//EN
METHOD:PUBLISH
X-PUBLISHED-TTL:P3D
REFRESH-INTERVAL:P3D
CALSCALE:GREGORIAN
BEGIN:VEVENT
DTSTART:20160220T150000Z
DTEND:20160220T160000Z
X-MICROSOFT-CDO-ALLDAYEVENT:FALSE
SUMMARY:Pilates For Division Street School
DESCRIPTION:Join us for our Pilates for A Purpose class on Saturday February 20th.   The class will be accepting donations for The Division Street School.   This class will be held for The Division Street School once a month through 2016) This is a 50 minute Pilates Mat Class suitable for all levels.   Bring a mat if you have one. Please show up a few minutes early to fill out paperwork if you are new to the studio.
X-ALT-DESC;FMTTYPE=text/html:Join us for our Pilates for A Purpose class on Saturday February 20th. &nbsp\;&nbsp\;The class will be accepting donations for The Division Street School. &nbsp\; This class will be held for The Division Street School once a month through 2016) This is a 50 minute Pilates Mat Class suitable for all levels. &nbsp\; Bring a mat if you have one. Please show up a few minutes early to fill out paperwork if you are new to the studio.
LOCATION:18 Division Street Suite 203
UID:e.2254.13553
SEQUENCE:3
DTSTAMP:20260422T022605Z
URL:https://chamber.saratoga.org/events/details/pilates-for-division-street-school-02-20-2016-13553
END:VEVENT

END:VCALENDAR
