BEGIN:VCALENDAR
VERSION:2.0
PRODID:-//ChamberMaster//Event Calendar 2.0//EN
METHOD:PUBLISH
X-PUBLISHED-TTL:P3D
REFRESH-INTERVAL:P3D
CALSCALE:GREGORIAN
BEGIN:VEVENT
DTSTART:20160227T150000Z
DTEND:20160227T160000Z
X-MICROSOFT-CDO-ALLDAYEVENT:FALSE
SUMMARY:Pilates For Chamber Angels
DESCRIPTION:Join us for our Pilates for A Purpose class on Saturday February 27th.  The class will be accepting donations for Chamber Angels.  This is a 50 minute Pilates Mat Class suitable for all levels.  Bring a mat if you have one.  Please show up a few minutes early to fill out paperwork if you are new to the studio.
X-ALT-DESC;FMTTYPE=text/html:Join us for our Pilates for A Purpose class on Saturday February 27th.&nbsp\;&nbsp\;The class will be accepting donations for Chamber Angels. &nbsp\;This is a 50 minute Pilates Mat Class suitable for all levels. &nbsp\;Bring a mat if you have one. &nbsp\;Please show up a few minutes early to fill out paperwork if you are new to the studio.
LOCATION:Reform Pilates Club 18 Division St suite 203 Saratoga Springs Ny
UID:e.2254.13632
SEQUENCE:3
DTSTAMP:20260422T022622Z
URL:https://chamber.saratoga.org/events/details/pilates-for-chamber-angels-02-27-2016-13632
END:VEVENT

END:VCALENDAR
