BEGIN:VCALENDAR
VERSION:2.0
PRODID:-//ChamberMaster//Event Calendar 2.0//EN
METHOD:PUBLISH
X-PUBLISHED-TTL:P3D
REFRESH-INTERVAL:P3D
CALSCALE:GREGORIAN
BEGIN:VEVENT
DTSTART:20151103T233000Z
DTEND:20151104T013000Z
X-MICROSOFT-CDO-ALLDAYEVENT:FALSE
SUMMARY:Piemonte Cooking School
DESCRIPTION:On November 3 Chianti Il Ristorante's Executive Chef Fabrizio Bazzani leads you on a culinary journey through the beautiful region of Piemonte. Explore Piemonte and learn tips from a master while you sip wine and watch a fantastic meal prepared from start to finish From the peaks of snowcapped mountains to the shores of glittering lakes\, Piemonte encompasses a diverse and prolific landscape. First-class wines like Barolo\, Barbaresco\, and Barbera hail from hillside vineyards\, noble partners to a cuisine that is unabashedly rich and deliciously refined. Fresh pastas are stuffed with delicately spiced forcemeats and showered with fragrant white truffles\, rice is paired with everything from frogs' legs to Castelmagno cheese\, prized cuts of meat are boiled to tender perfection and served with great pomp during the cold winter months\, and the chocolate confections are the best in the country.
X-ALT-DESC;FMTTYPE=text/html:On November 3 Chianti Il Ristorante&#39\;s Executive Chef Fabrizio Bazzani leads you on a culinary journey through the beautiful region of Piemonte. Explore Piemonte and learn tips from a master while you sip wine and watch a fantastic meal prepared from start to finish From the peaks of snowcapped mountains to the shores of glittering lakes\, Piemonte encompasses a diverse and prolific landscape. First-class wines like Barolo\, Barbaresco\, and Barbera hail from hillside vineyards\, noble partners to a cuisine that is unabashedly rich and deliciously refined. Fresh pastas are stuffed with delicately spiced forcemeats and showered with fragrant white truffles\, rice is paired with everything from frogs&#39\; legs to Castelmagno cheese\, prized cuts of meat are boiled to tender perfection and served with great pomp during the cold winter months\, and the chocolate confections are the best in the country.
LOCATION:Chianti Il Ristorante 18 Division St. Saratoga Springs\, NY
UID:e.2254.10206
SEQUENCE:3
DTSTAMP:20260422T124026Z
URL:https://chamber.saratoga.org/events/details/piemonte-cooking-school-11-03-2015-10206
END:VEVENT

END:VCALENDAR
