BEGIN:VCALENDAR
VERSION:2.0
PRODID:-//ChamberMaster//Event Calendar 2.0//EN
METHOD:PUBLISH
X-PUBLISHED-TTL:P3D
REFRESH-INTERVAL:P3D
CALSCALE:GREGORIAN
BEGIN:VEVENT
DTSTART:20140928T020000Z
DTEND:20150104T040000Z
X-MICROSOFT-CDO-ALLDAYEVENT:FALSE
SUMMARY:Picturing America: Signature Works from the Westmoreland Museum of American Art - 09/27/2014
DESCRIPTION:This lush exhibition offers 57 paintings   font-family: "Calibri"\,"sans-serif"\; font-size: 12pt\; mso-ascii-theme-font: minor-latin\; mso-fareast-font-family: Calibri\; mso-fareast-theme-font: minor-latin\; mso-hansi-theme-font: minor-latin\; mso-bidi-font-family: "Times New Roman"\; mso-bidi-theme-font: minor-bidi\; mso-ansi-language: EN-US\; mso-fareast-language: EN-US\; mso-bidi-language: AR-SA\;'>From\nthe 1758 Portrait of John Gardiner by\nJohn Singleton Copley to Milton Avery’s Arrangement\nwith Plants of 1948\, the exhibition Picturing\nAmerica presents paintings and sculptures that describe the American\nexperience from the pre-Revolutionary War era to early Modernism. Renowned\nartists represented in this selection from the collection of the Westmoreland\nMuseum of American Art include Milton Avery\, Mary Cassatt\, John Singleton\nCopley\, Childe Hassam\, Robert Henri\, George Inness\, Paul Manship\, John Sloan\,\nand Benjamin West\, as well as Charles Wilson Peale and his children Rembrandt\,\nRubens\, and Mary Jane. The rich variety of expressive means including\nstill-life\, portraiture\, genre and abstraction\, represented by the works in the\nexhibition\, provides a visual embodiment of such national ideals as freedom\,\ndiversity\, and opportunity.
X-ALT-DESC;FMTTYPE=text/html:<p>This lush exhibition offers 57 paintings & sculptures that describe the American experience from the Colonial period to early Modernism</p><span style='line-height: 115%\; font-family: "Calibri"\,"sans-serif"\; font-size: 12pt\; mso-ascii-theme-font: minor-latin\; mso-fareast-font-family: Calibri\; mso-fareast-theme-font: minor-latin\; mso-hansi-theme-font: minor-latin\; mso-bidi-font-family: "Times New Roman"\; mso-bidi-theme-font: minor-bidi\; mso-ansi-language: EN-US\; mso-fareast-language: EN-US\; mso-bidi-language: AR-SA\;'>From\nthe 1758 <i style="mso-bidi-font-style: normal\;">Portrait of John Gardiner</i> by\nJohn Singleton Copley to Milton Avery’s <i style="mso-bidi-font-style: normal\;">Arrangement\nwith Plants</i> of 1948\, the exhibition <i style="mso-bidi-font-style: normal\;">Picturing\nAmerica</i> presents paintings and sculptures that describe the American\nexperience from the pre-Revolutionary War era to early Modernism. Renowned\nartists represented in this selection from the collection of the Westmoreland\nMuseum of American Art include Milton Avery\, Mary Cassatt\, John Singleton\nCopley\, Childe Hassam\, Robert Henri\, George Inness\, Paul Manship\, John Sloan\,\nand Benjamin West\, as well as Charles Wilson Peale and his children Rembrandt\,\nRubens\, and Mary Jane. The rich variety of expressive means including\nstill-life\, portraiture\, genre and abstraction\, represented by the works in the\nexhibition\, provides a visual embodiment of such national ideals as freedom\,\ndiversity\, and opportunity. </span>
LOCATION:The Hyde Collection Art Museum
UID:e.2254.2086
SEQUENCE:3
DTSTAMP:20260424T015654Z
URL:https://chamber.saratoga.org/events/details/picturing-america-signature-works-from-the-westmoreland-museum-of-american-art-09-27-2014-09-27-2014-2086
END:VEVENT

END:VCALENDAR
