BEGIN:VCALENDAR
VERSION:2.0
PRODID:-//ChamberMaster//Event Calendar 2.0//EN
METHOD:PUBLISH
X-PUBLISHED-TTL:P3D
REFRESH-INTERVAL:P3D
CALSCALE:GREGORIAN
BEGIN:VEVENT
DTSTART:20161009T100000Z
DTEND:20161009T180000Z
X-MICROSOFT-CDO-ALLDAYEVENT:FALSE
SUMMARY:Photography - Fall Lakes and Waterways at Dawn Photo Tour with Carl Heilman II. #995-1009.
DESCRIPTION:Here's your chance to grab gorgeous sunrise shots. In this one day nature photography tour you will travel to several destinations that are all within a reasonable distance of each other. You'll spend 90% of the day shooting pictures at beautiful nearby Adirondack lakes and waterways. This nature photography tour is designed for those who are already comfortable with camera basics such as the relationship between aperture\, shutter\, and ISO settings. Start this eight hour day with a very brief discussion\, then take the rest of the day to play with photo techniques in the field at nearby photo locations. A great class for those who wish to receive mentoring while in the field.\n \nNOTE:  Equipment requirements include: a DSLR and/or full featured point and shoot camera (preferably with screw-on filter capability)\, a sturdy tripod\, and a remote release. In addition\, bring along your widest angle lenses (shortest focal lengths)\, longer focal length zooms (that can be used with extension tubes)\, macro lenses\, extension tubes\, tele-extenders\, and close-up diopters you have in your camera bag.
X-ALT-DESC;FMTTYPE=text/html:<pre>\n<span style="font-family:arial\,sans-serif"><span style="font-size:medium">Here&#39\;s your chance to grab gorgeous sunrise shots. In this one day nature photography tour you will travel to several destinations that are all within a reasonable distance of each other. You&#39\;ll spend 90% of the day shooting pictures at beautiful nearby Adirondack lakes and waterways. This nature photography tour is designed for those who are already comfortable with camera basics such as the relationship between aperture\, shutter\, and ISO settings. Start this eight hour day with a very brief discussion\, then take the rest of the day to play with photo techniques in the field at nearby photo locations. A great class for those who wish to receive mentoring while in the field.</span></span>\n&nbsp\;\n<strong><span style="color:black"><span style="font-family:arial\,sans-serif"><span style="font-size:medium">NOTE:&nbsp\; Equipment requirements include: a DSLR and/or full featured point and shoot camera (preferably with screw-on filter capability)\, a sturdy tripod\, and a remote release. In addition\, bring along your widest angle lenses (shortest focal lengths)\, longer focal length zooms (that can be used with extension tubes)\, macro lenses\, extension tubes\, tele-extenders\, and close-up diopters you have in your camera bag.</span></span></span></strong>\n</pre>\n
LOCATION:Adirondack Folk School 51 Main Street Lake Luzerne\, NY 12846
UID:e.2254.16986
SEQUENCE:3
DTSTAMP:20260420T232457Z
URL:https://chamber.saratoga.org/events/details/photography-fall-lakes-and-waterways-at-dawn-photo-tour-with-carl-heilman-ii-995-1009-10-09-2016-16986
END:VEVENT

END:VCALENDAR
