BEGIN:VCALENDAR
VERSION:2.0
PRODID:-//ChamberMaster//Event Calendar 2.0//EN
METHOD:PUBLISH
X-PUBLISHED-TTL:P3D
REFRESH-INTERVAL:P3D
CALSCALE:GREGORIAN
BEGIN:VEVENT
DTSTART:20150808T120000Z
DTEND:20150809T133000Z
X-MICROSOFT-CDO-ALLDAYEVENT:FALSE
SUMMARY:Photo Finish Tour with Dona McAdams
DESCRIPTION:Photo Finish Tour with Dona McAdams: 90-minute equine photography class at Saratoga Race Course?s Oklahoma Training Track. Time: 8 a.m. Cost: $25 Museum members\; $35 non-members. Tour must be paid in advance. For reservations call (518) 584-0400 ext. 120. No children under 10 are allowed on this tour. Date: August 8\, 2015 - 8:00am to 9:30am
X-ALT-DESC;FMTTYPE=text/html:Photo Finish Tour with Dona McAdams: 90-minute equine photography class at Saratoga Race Course?s Oklahoma Training Track. Time: 8 a.m. Cost: $25 Museum members\; $35 non-members. Tour must be paid in advance. For reservations call (518) 584-0400 ext. 120. No children under 10 are allowed on this tour. Date: August 8\, 2015 - 8:00am to 9:30am
LOCATION:meet at the National Racing Museum back entrance
UID:e.2254.10185
SEQUENCE:3
DTSTAMP:20260423T023952Z
URL:https://chamber.saratoga.org/events/details/photo-finish-tour-with-dona-mcadams-08-08-2015-10185
END:VEVENT

END:VCALENDAR
