BEGIN:VCALENDAR
VERSION:2.0
PRODID:-//ChamberMaster//Event Calendar 2.0//EN
METHOD:PUBLISH
X-PUBLISHED-TTL:P3D
REFRESH-INTERVAL:P3D
CALSCALE:GREGORIAN
BEGIN:VEVENT
DTSTART:20140703T120000Z
DTEND:20140705T213000Z
X-MICROSOFT-CDO-ALLDAYEVENT:FALSE
SUMMARY:PHISH - 07/03/2014
DESCRIPTION:July 3rd 7:30 p.m.\, July 4th   5th 7:30 p.m.\nJuly 3rd - 3 day package\nhttp://www.livenation.com/#/venues/14310/saratoga-performing-arts-center-spac
X-ALT-DESC;FMTTYPE=text/html:<p>July 3rd 7:30 p.m.\, July 4th & 5th 7:30 p.m. http://www.livenation.com/#/venues/14310/saratoga-performing-arts-center-spac</p><p>July 3rd 7:30 p.m.\, July 4th &amp\; 5th 7:30 p.m.</p>\n<p>July 3rd - 3 day package</p>\n<p><a href="http://www.livenation.com/#/venues/14310/saratoga-performing-arts-center-spac">http://www.livenation.com/#/venues/14310/saratoga-performing-arts-center-spac</a>&nbsp\;</p>
LOCATION:SPAC (Saratoga Performing Arts Center)
UID:e.2254.985
SEQUENCE:3
DTSTAMP:20260424T165539Z
URL:https://chamber.saratoga.org/events/details/phish-07-03-2014-07-03-2014-985
END:VEVENT

END:VCALENDAR
