BEGIN:VCALENDAR
VERSION:2.0
PRODID:-//ChamberMaster//Event Calendar 2.0//EN
METHOD:PUBLISH
X-PUBLISHED-TTL:P3D
REFRESH-INTERVAL:P3D
CALSCALE:GREGORIAN
BEGIN:VEVENT
DTSTART:20151023T140000Z
DTEND:20151023T153000Z
X-MICROSOFT-CDO-ALLDAYEVENT:FALSE
SUMMARY:Peek at Preschool
DESCRIPTION:Want a taste of preschool fun for your little one? Children ages 2-5 and their caregivers are invited to join us at Katrina Trask Nursery School at 10am on Fridays for our at Preschool series. We will be reading stories\, doing crafts\, learning new things\, practicing our preschool skills\, and having a fun time. Play time begins at 10 and program begins at 10:30. Every week we will be focusing on a new theme. This week... October 23rd  We'll be playing it safe as we learn about fire safety!
X-ALT-DESC;FMTTYPE=text/html:Want a taste of preschool fun for your little one? Children ages 2-5 and their caregivers are invited to join us at Katrina Trask Nursery School at 10am on Fridays for our at Preschool series. We will be reading stories\, doing crafts\, learning new things\, practicing our preschool skills\, and having a fun time. Play time begins at 10 and program begins at 10:30. Every week we will be focusing on a new theme. This week... October 23rd&nbsp\; We&#39\;ll be playing it safe as we learn about fire safety!
LOCATION:Katrina Trask Nursery School Saratoga Springs\, NY 12866
UID:e.2254.12768
SEQUENCE:3
DTSTAMP:20260422T130441Z
URL:https://chamber.saratoga.org/events/details/peek-at-preschool-10-23-2015-12768
END:VEVENT

END:VCALENDAR
