BEGIN:VCALENDAR
VERSION:2.0
PRODID:-//ChamberMaster//Event Calendar 2.0//EN
METHOD:PUBLISH
X-PUBLISHED-TTL:P3D
REFRESH-INTERVAL:P3D
CALSCALE:GREGORIAN
BEGIN:VEVENT
DTSTART:20160212T150000Z
DTEND:20160212T163000Z
X-MICROSOFT-CDO-ALLDAYEVENT:FALSE
SUMMARY:Peek at Preschool
DESCRIPTION:Want a taste of preschool fun for your little one?\n\n\n\nChildren ages 2-5 and their caregivers are invited to join us at Katrina Trask Nursery School at 10am on Fridays for our "Peek at Preschool" series.  We will be reading stories\, doing crafts\, learning new things\, practicing our preschool skills\, and having a fun time.\n\n\n\nPlay time begins at 10 and program begins at 10:30.\n\n\n\nSchedule of events\n\n\n\nPlease note that this program will be cancelled if\n\n\n\nSaratoga Springs School District is closed due to inclement weather.\n\n\n\nNovember 6th   We'll be making fall leaf print art projects!\n\n\n\nNovember 20th   Don't be a turkey\, join us for some Thanksgiving fun!\n\n\n\nDecember 4th   Think warm and join us for some beach themed fun!\n\n\n\nDecember 11th   Watch our Snow Storm in a Jar and make one to try at home.\n\n\n\nDecember 18th   We'll be making gingerbread man candy cane holders courtesy of Lowe's\n\n\n\nBuild and Grow program.
X-ALT-DESC;FMTTYPE=text/html:Want a taste of preschool fun for your little one?<br />\n<br />\nChildren ages 2-5 and their caregivers are invited to join us at Katrina Trask Nursery School at 10am on Fridays for our &ldquo\;Peek at Preschool&rdquo\; series.&nbsp\; We will be reading stories\, doing crafts\, learning new things\, practicing our preschool skills\, and having a fun time.<br />\n<br />\nPlay time begins at 10 and program begins at 10:30.<br />\n<br />\nSchedule of events<br />\n<br />\nPlease note that this program will be cancelled if<br />\n<br />\nSaratoga Springs School District is closed due to inclement weather.<br />\n<br />\nNovember 6th &ndash\; We&rsquo\;ll be making fall leaf print art projects!<br />\n<br />\nNovember 20th &ndash\; Don&rsquo\;t be a turkey\, join us for some Thanksgiving fun!<br />\n<br />\nDecember 4th &ndash\; Think warm and join us for some beach themed fun!<br />\n<br />\nDecember 11th &ndash\; Watch our Snow Storm in a Jar and make one to try at home.<br />\n<br />\nDecember 18th &ndash\; We&rsquo\;ll be making gingerbread man candy cane holders courtesy of Lowe&rsquo\;s<br />\n<br />\nBuild and Grow program.<br />\n<br />\n<br />\n<br />\n&nbsp\;
LOCATION:Katrina Trask Nursery School ~ 24 Circular Street\, Saratoga Springs
UID:e.2254.12834
SEQUENCE:3
DTSTAMP:20260422T022948Z
URL:https://chamber.saratoga.org/events/details/peek-at-preschool-02-12-2016-12834
END:VEVENT

END:VCALENDAR
