BEGIN:VCALENDAR
VERSION:2.0
PRODID:-//ChamberMaster//Event Calendar 2.0//EN
METHOD:PUBLISH
X-PUBLISHED-TTL:P3D
REFRESH-INTERVAL:P3D
CALSCALE:GREGORIAN
BEGIN:VEVENT
DTSTART:20150923T180000Z
DTEND:20150923T183000Z
X-MICROSOFT-CDO-ALLDAYEVENT:FALSE
SUMMARY:Peace Week: Story Art
DESCRIPTION:Part of Saratoga Peace Week. Listen to a peace-themed story to inspire and create a peace-themed art project. We will work together to make a large artwork to hang at the Museum and also create something for each participant to take home and enjoy! Program is FREE with Museum Admission.
X-ALT-DESC;FMTTYPE=text/html:Part of Saratoga Peace Week. Listen to a peace-themed story to inspire and create a peace-themed art project. We will work together to make a large artwork to hang at the Museum and also create something for each participant to take home and enjoy! Program is FREE with Museum Admission.
LOCATION:Children's Museum at Saratoga \, 69 Caroline St
UID:e.2254.12338
SEQUENCE:3
DTSTAMP:20260423T010759Z
URL:https://chamber.saratoga.org/events/details/peace-week-story-art-09-23-2015-12338
END:VEVENT

END:VCALENDAR
