BEGIN:VCALENDAR
VERSION:2.0
PRODID:-//ChamberMaster//Event Calendar 2.0//EN
METHOD:PUBLISH
X-PUBLISHED-TTL:P3D
REFRESH-INTERVAL:P3D
CALSCALE:GREGORIAN
BEGIN:VEVENT
DTSTART:20150926T230000Z
DTEND:20150927T000000Z
X-MICROSOFT-CDO-ALLDAYEVENT:FALSE
SUMMARY:Peace Week: Closing Fire Ceremony
DESCRIPTION:At the end of peace week\, a gathering to celebrate the many efforts for promoting peace at home\, in the community and the world.
X-ALT-DESC;FMTTYPE=text/html:At the end of peace week\, a gathering to celebrate the many efforts for promoting peace at home\, in the community and the world.
LOCATION:Ndakinna Educational Center\, 23 Middle Grove Road\, Greenfield
UID:e.2254.12342
SEQUENCE:3
DTSTAMP:20260423T003622Z
URL:https://chamber.saratoga.org/events/details/peace-week-closing-fire-ceremony-09-26-2015-12342
END:VEVENT

END:VCALENDAR
