BEGIN:VCALENDAR
VERSION:2.0
PRODID:-//ChamberMaster//Event Calendar 2.0//EN
METHOD:PUBLISH
X-PUBLISHED-TTL:P3D
REFRESH-INTERVAL:P3D
CALSCALE:GREGORIAN
BEGIN:VEVENT
DTSTART;VALUE=DATE:20151215
DTEND;VALUE=DATE:20160101
TRANSP:TRANSPARENT
X-MICROSOFT-CDO-ALLDAYEVENT:TRUE
SUMMARY:Pay As You Wish Month
DESCRIPTION:We invite everyone to visit The Hyde this December for an admission price of your choice. There is no admission fee\, but rather we hope you'll make a voluntary contribution based on your experience of the Museum.
X-ALT-DESC;FMTTYPE=text/html:We invite everyone to visit The Hyde this December for an admission price of your choice. There is no admission fee\, but rather we hope you&#39\;ll make a voluntary contribution based on your experience of the Museum.
LOCATION:The Hyde Collection\, 161 Warren Street\, Glens Falls\, NY 12801
UID:e.2254.13175
SEQUENCE:3
DTSTAMP:20260422T101722Z
URL:https://chamber.saratoga.org/events/details/pay-as-you-wish-month-12-15-2015-13175
END:VEVENT

END:VCALENDAR
