BEGIN:VCALENDAR
VERSION:2.0
PRODID:-//ChamberMaster//Event Calendar 2.0//EN
METHOD:PUBLISH
X-PUBLISHED-TTL:P3D
REFRESH-INTERVAL:P3D
CALSCALE:GREGORIAN
BEGIN:VEVENT
DTSTART:20150428T223000Z
DTEND:20150429T002500Z
X-MICROSOFT-CDO-ALLDAYEVENT:FALSE
SUMMARY:Pasta & Ravioli Cooking Class
DESCRIPTION:On April 28 channel your aspiring inner chef at Pasta Pane. In this fun and inspiring class\, Executive Chef James Frese will teach you how to make fresh pasta and ravioli from scratch\, then afterwards enjoy the fruits of your labor! Even if you have no prior experience making pasta or sauces from scratch\, you will enjoy this hands-on class with Executive Chef James Frese. Be prepared to make and savor what you create throughout the evening and to go home with not just a full stomach but with a full heart.
X-ALT-DESC;FMTTYPE=text/html:On April 28 channel your aspiring inner chef at Pasta Pane. In this fun and inspiring class\, Executive Chef James Frese will teach you how to make fresh pasta and ravioli from scratch\, then afterwards enjoy the fruits of your labor! Even if you have no prior experience making pasta or sauces from scratch\, you will&nbsp\;enjoy this hands-on class with Executive Chef James Frese. Be prepared to make and savor what you create throughout the evening and to go home with not just a full stomach but with a full heart.
LOCATION:Pasta Pane
UID:e.2254.6153
SEQUENCE:3
DTSTAMP:20260423T195833Z
URL:https://chamber.saratoga.org/events/details/pasta-ravioli-cooking-class-04-28-2015-6153
END:VEVENT

END:VCALENDAR
