BEGIN:VCALENDAR
VERSION:2.0
PRODID:-//ChamberMaster//Event Calendar 2.0//EN
METHOD:PUBLISH
X-PUBLISHED-TTL:P3D
REFRESH-INTERVAL:P3D
CALSCALE:GREGORIAN
BEGIN:VEVENT
DTSTART:20150619T210000Z
DTEND:20150619T230000Z
X-MICROSOFT-CDO-ALLDAYEVENT:FALSE
SUMMARY:Pasta & Meatball Fundraiser Dinner
DESCRIPTION:Support The Children's Museum at Saratoga while enjoying a wonderful Italian meal thanks to the Italian Community Center\, Principessa Elena Society of Saratoga Springs. Menu to include: Italian Wedding Soup\, Ziti w/ sauce\, Meatballs w/ sauce\, a meatless sauce option\, Salad\, Bread & Butter\, Dessert\, Coffee\, and Tea. Seniors eat for $8\, adults for $9\, children ages 5-12 for $5\, children under 5 eat for FREE\, and all take-out dinners will be $10. All proceeds to be donated to The Children's Museum at Saratoga. Hope to see you there!
X-ALT-DESC;FMTTYPE=text/html:Support The Children&#39\;s Museum at Saratoga while enjoying a wonderful Italian meal thanks to the Italian Community Center\, Principessa Elena Society of Saratoga Springs. Menu to include: Italian Wedding Soup\, Ziti w/ sauce\, Meatballs w/ sauce\, a meatless sauce option\, Salad\, Bread &amp\; Butter\, Dessert\, Coffee\, and Tea. Seniors eat for $8\, adults for $9\, children ages 5-12 for $5\, children under 5 eat for FREE\, and all take-out dinners will be $10. All proceeds to be donated to The Children&#39\;s Museum at Saratoga. Hope to see you there!
LOCATION:Principessa Elena Society 11-13 Oak Street Saratoga Springs\, NY 12866 (518 584-4163
UID:e.2254.9610
SEQUENCE:3
DTSTAMP:20260423T072313Z
URL:https://chamber.saratoga.org/events/details/pasta-meatball-fundraiser-dinner-06-19-2015-9610
END:VEVENT

END:VCALENDAR
