BEGIN:VCALENDAR
VERSION:2.0
PRODID:-//ChamberMaster//Event Calendar 2.0//EN
METHOD:PUBLISH
X-PUBLISHED-TTL:P3D
REFRESH-INTERVAL:P3D
CALSCALE:GREGORIAN
BEGIN:VEVENT
DTSTART:20150426T210000Z
DTEND:20150427T020000Z
X-MICROSOFT-CDO-ALLDAYEVENT:FALSE
SUMMARY:Pasta and Puccini - Fundraiser for the Friends of Opera Saratoga
DESCRIPTION:The Friends of Opera Saratoga will host Pasta and Puccini at 5:00 p. m. on April 26\, 2015 at Saratoga National Golf Club\, to benefit the organization and ultimately opera performances in the region. Tickets can be purchased online at: http://www.brownpapertickets.com/event/1265340. The cost of each ticket is $85 dollars and includes hors d-oeuvres\, dinner\, and entertainment.
X-ALT-DESC;FMTTYPE=text/html:The Friends of Opera Saratoga will host Pasta and Puccini at 5:00 p. m. on April 26\, 2015 at Saratoga National Golf Club\, to benefit the organization and ultimately opera performances in the region. Tickets can be purchased online at: http://www.brownpapertickets.com/event/1265340. The cost of each ticket is $85 dollars and includes hors d-oeuvres\, dinner\, and entertainment.
LOCATION:Saratoga National Golf Club
UID:e.2254.6947
SEQUENCE:3
DTSTAMP:20260423T182341Z
URL:https://chamber.saratoga.org/events/details/pasta-and-puccini-fundraiser-for-the-friends-of-opera-saratoga-04-26-2015-6947
END:VEVENT

END:VCALENDAR
