BEGIN:VCALENDAR
VERSION:2.0
PRODID:-//ChamberMaster//Event Calendar 2.0//EN
METHOD:PUBLISH
X-PUBLISHED-TTL:P3D
REFRESH-INTERVAL:P3D
CALSCALE:GREGORIAN
BEGIN:VEVENT
DTSTART:20150710T140000Z
DTEND:20150710T160000Z
X-MICROSOFT-CDO-ALLDAYEVENT:FALSE
SUMMARY:Park Pollinators Pursuit
DESCRIPTION:Learn more about the importance of pollinator species and search for some of the ones found in Saratoga Spa State Park. All ages welcome. Fee is $3 per person or $5 per family. Please call 518-584-2000 Ext. 150 to register.
X-ALT-DESC;FMTTYPE=text/html:Learn more about the importance of pollinator species and search for some of the ones found in Saratoga Spa State Park. All ages welcome. Fee is $3 per person or $5 per family. Please call 518-584-2000 Ext. 150 to register.
LOCATION:Saratoga Spa State Park
UID:e.2254.10012
SEQUENCE:3
DTSTAMP:20260423T040546Z
URL:https://chamber.saratoga.org/events/details/park-pollinators-pursuit-07-10-2015-10012
END:VEVENT

END:VCALENDAR
