BEGIN:VCALENDAR
VERSION:2.0
PRODID:-//ChamberMaster//Event Calendar 2.0//EN
METHOD:PUBLISH
X-PUBLISHED-TTL:P3D
REFRESH-INTERVAL:P3D
CALSCALE:GREGORIAN
BEGIN:VEVENT
DTSTART:20160402T220000Z
DTEND:20160403T010000Z
X-MICROSOFT-CDO-ALLDAYEVENT:FALSE
SUMMARY:Palace Performing Arts Center Backstage Ball
DESCRIPTION:Walk the red carpet and celebrate the arts at the Backstage Ball. Presented by CDPHP\, the Palace Performing Arts Center welcomes guests to the historic Palace Theatre\, downtown Albany's premier destination\, for an evening of arts and entertainment throughout the grand theatre. Join us Saturday\, April 2\, 2016\, 6:00 pm\, catering by Mazzone Hospitality\, cocktail attire\, complimentary valet parking. Contact Sari O'Connor at soconnor@palacealbany.com or 465-3335\, ext. 124 for information.
X-ALT-DESC;FMTTYPE=text/html:Walk the red carpet and celebrate the arts at the Backstage Ball. Presented by CDPHP\, the Palace Performing Arts Center welcomes guests to the historic Palace Theatre\, downtown Albany&#39\;s premier destination\, for an evening of arts and entertainment throughout the grand theatre. Join us Saturday\, April 2\, 2016\, 6:00 pm\, catering by Mazzone Hospitality\, cocktail attire\, complimentary valet parking. Contact Sari O&#39\;Connor at soconnor@palacealbany.com or 465-3335\, ext. 124 for information.
LOCATION:Palace Theatre 19 Clinton Avenue Albany\, NY 12207
UID:e.2254.10216
SEQUENCE:3
DTSTAMP:20260421T163936Z
URL:https://chamber.saratoga.org/events/details/palace-performing-arts-center-backstage-ball-04-02-2016-10216
END:VEVENT

END:VCALENDAR
