BEGIN:VCALENDAR
VERSION:2.0
PRODID:-//ChamberMaster//Event Calendar 2.0//EN
METHOD:PUBLISH
X-PUBLISHED-TTL:P3D
REFRESH-INTERVAL:P3D
CALSCALE:GREGORIAN
BEGIN:VEVENT
DTSTART:20160618T130000Z
DTEND:20160618T200000Z
X-MICROSOFT-CDO-ALLDAYEVENT:FALSE
SUMMARY:Painted Gourd Bowl or Box with Lid with Carol Maher. #868-0618.
DESCRIPTION:In this project you will select\, clean and cut a hardshell gourd. Handles may be cut out for a bowl. For a Box\, a knob may be added to the top or it may be reattached with a leather hinge. Working freehand or using stencils\, you will create a design for your gourd and use acrylic paints to fill it in. A coat of fast-drying polyurethane or shoe polish completes the project. No experience necessary.
X-ALT-DESC;FMTTYPE=text/html:In this project you will select\, clean and cut a hardshell gourd. Handles may be cut out for a bowl. For a Box\, a knob may be added to the top or it may be reattached with a leather hinge. Working freehand or using stencils\, you will create a design for your gourd and use acrylic paints to fill it in. A coat of fast-drying polyurethane or shoe polish completes the project. No experience necessary.
LOCATION:Adirondack Folk School 51 Main Street Lake Luzerne\, NY 12846
UID:e.2254.15264
SEQUENCE:3
DTSTAMP:20260421T110203Z
URL:https://chamber.saratoga.org/events/details/painted-gourd-bowl-or-box-with-lid-with-carol-maher-868-0618-06-18-2016-15264
END:VEVENT

END:VCALENDAR
