BEGIN:VCALENDAR
VERSION:2.0
PRODID:-//ChamberMaster//Event Calendar 2.0//EN
METHOD:PUBLISH
X-PUBLISHED-TTL:P3D
REFRESH-INTERVAL:P3D
CALSCALE:GREGORIAN
BEGIN:VEVENT
DTSTART:20170222T230000Z
DTEND:20170223T000000Z
X-MICROSOFT-CDO-ALLDAYEVENT:FALSE
SUMMARY:Owl Prowl
DESCRIPTION:Starting with an indoor presentation\, participants will learn about which owls are found in our area. Then we will head outdoors to listen and look for wild owls! Group size is limited and is for ages 5 and up. Pre-registration is required by February 20th by calling the Library at (518) 584-7860 option 3. This program will be offered again at the same time on March 3rd\, 8th\, and 17th.
X-ALT-DESC;FMTTYPE=text/html:Starting with an indoor presentation\, participants will learn about which owls are found in our area. Then we will head outdoors to listen and look for wild owls! Group size is limited and is for ages 5 and up. Pre-registration is required by February 20th by calling the Library at (518) 584-7860 option 3. This program will be offered again at the same time on March 3rd\, 8th\, and 17th.
LOCATION:Wilton Wildlife Preserve and Park Office at 80 Scout Road\, Gansevoort\, NY 12831
UID:e.2254.21407
SEQUENCE:3
DTSTAMP:20260420T101453Z
URL:https://chamber.saratoga.org/events/details/owl-prowl-21407
END:VEVENT

END:VCALENDAR
