BEGIN:VCALENDAR
VERSION:2.0
PRODID:-//ChamberMaster//Event Calendar 2.0//EN
METHOD:PUBLISH
X-PUBLISHED-TTL:P3D
REFRESH-INTERVAL:P3D
CALSCALE:GREGORIAN
BEGIN:VEVENT
DTSTART:20160217T230000Z
DTEND:20160218T003000Z
X-MICROSOFT-CDO-ALLDAYEVENT:FALSE
SUMMARY:Owl Prowl
DESCRIPTION:In collaboration with the Saratoga Springs Public Library\, we will be going out on an early evening hunt for local owls. First\, we will learn about what owls are found in our area with an indoor presentation. Then we will head outdoors to listen and look for wild owls! Group size is limited and is for ages 5 and up. Pre-registration is required by February 16th by calling the Library at (518) 584-7860 option 3. This program will be offered again on February 23 and March 4t..
X-ALT-DESC;FMTTYPE=text/html:In collaboration with the Saratoga Springs Public Library\, we will be going out on an early evening hunt for local owls. First\, we will learn about what owls are found in our area with an indoor presentation. Then we will head outdoors to listen and look for wild owls! Group size is limited and is for ages 5 and up. Pre-registration is required by February 16th by calling the Library at (518) 584-7860 option 3. This program will be offered again on February 23 and March 4t..
LOCATION:80 Scout Rd Gansevoort\, NY 12831
UID:e.2254.13209
SEQUENCE:3
DTSTAMP:20260422T022224Z
URL:https://chamber.saratoga.org/events/details/owl-prowl-02-17-2016-13209
END:VEVENT

END:VCALENDAR
