BEGIN:VCALENDAR
VERSION:2.0
PRODID:-//ChamberMaster//Event Calendar 2.0//EN
METHOD:PUBLISH
X-PUBLISHED-TTL:P3D
REFRESH-INTERVAL:P3D
CALSCALE:GREGORIAN
BEGIN:VEVENT
DTSTART:20160526T200000Z
DTEND:20160526T223000Z
X-MICROSOFT-CDO-ALLDAYEVENT:FALSE
SUMMARY:Orientation & Mixer Member Meetup
DESCRIPTION:You're invited to the newly owned and operated Maestros at McGregor Links Country Club for the May Orientation & Mixer. Join your fellow Chamber members for an evening of networking while enjoying the hospitality of Symphony Catering. Immediately before the mixer\, there will be a member orientation for all new and existing members looking to maximize their membership. Cost is $5 before the registration deadline and $10 after. Deadline is Tuesday\, May 24 by 4 p.m.
X-ALT-DESC;FMTTYPE=text/html:You&#39\;re invited to the newly owned and operated Maestros at McGregor Links Country Club for the May&nbsp\;Orientation &amp\; Mixer. Join your fellow Chamber members for an evening of networking while enjoying the hospitality of Symphony Catering. Immediately before the mixer\, there will be a member orientation for all new and existing members looking to maximize their membership. Cost is $5 before the registration deadline and $10 after. Deadline is Tuesday\, May 24 by 4 p.m.
LOCATION:Maestros at McGregor Links County Club 359 Northern Pine Road Wilton\, NY 12831
UID:e.2254.16523
SEQUENCE:3
DTSTAMP:20260421T160528Z
URL:https://chamber.saratoga.org/events/details/orientation-mixer-member-meetup-05-26-2016-16523
END:VEVENT

END:VCALENDAR
