BEGIN:VCALENDAR
VERSION:2.0
PRODID:-//ChamberMaster//Event Calendar 2.0//EN
METHOD:PUBLISH
X-PUBLISHED-TTL:P3D
REFRESH-INTERVAL:P3D
CALSCALE:GREGORIAN
BEGIN:VEVENT
DTSTART:20140812T190000Z
DTEND:20140812T213000Z
X-MICROSOFT-CDO-ALLDAYEVENT:FALSE
SUMMARY:Orientation & Mixer hosted by Twin Bridges Council
DESCRIPTION:Join us at Shmaltz Brewing for a fun evening of relationship building!The Saratoga County Chamber of Commerce\, along with the Twin Bridges Council\, will host an Orientation & Mixer at Shmaltz Brewing in Clifton Park. From 4 to 5 p.m.\, you are invited to join Vice President of Member Services\, Denise Romeo\, for a discussion on how you can maximize your Saratoga County Chamber investment. From 5 to 6:30\, you are invited to take a tour of the one-year old brewery\, sample their craft beer and enjoy hors d'oeuvres while networking and building business relationships with members from the Saratoga County Chamber of Commerce. Cost is $5 before registration deadline and $10 after. Deadline is Monday\, August 11 by 5 p.m.\nSpecial thank you to Healthy Living and Shmaltz Brewing for co-sponsoring this event.
X-ALT-DESC;FMTTYPE=text/html:<p>Join us at Shmaltz Brewing for a fun evening of relationship building!</p><p>The Saratoga County Chamber of Commerce\, along with the Twin Bridges Council\, will host an Orientation &amp\; Mixer at Shmaltz Brewing in Clifton Park. From 4 to 5 p.m.\, you are invited to join&nbsp\;Vice President of Member Services\, Denise Romeo\,&nbsp\;for a discussion on how you can maximize your Saratoga County Chamber investment. From 5 to 6:30\, you are invited to take a tour of the one-year old brewery\, sample their craft beer and enjoy hors d&rsquo\;oeuvres while networking and building business relationships with members from the Saratoga County Chamber of Commerce. Cost is $5 before registration deadline and $10 after. Deadline is Monday\, August 11 by 5 p.m.</p>\n<p>Special thank you to Healthy Living and Shmaltz Brewing for co-sponsoring this event.</p>
LOCATION:Shmaltz Brewing
UID:e.2254.519
SEQUENCE:3
DTSTAMP:20260424T140351Z
URL:https://chamber.saratoga.org/events/details/orientation-mixer-hosted-by-twin-bridges-council-08-12-2014-519
END:VEVENT

END:VCALENDAR
