BEGIN:VCALENDAR
VERSION:2.0
PRODID:-//ChamberMaster//Event Calendar 2.0//EN
METHOD:PUBLISH
X-PUBLISHED-TTL:P3D
REFRESH-INTERVAL:P3D
CALSCALE:GREGORIAN
BEGIN:VEVENT
DTSTART:20150326T200000Z
DTEND:20150326T223000Z
X-MICROSOFT-CDO-ALLDAYEVENT:FALSE
SUMMARY:Orientation & Mixer Hosted by the Twin Bridges Council
DESCRIPTION:The Twin Bridges Council of the Saratoga County Chamber of Commerce will partner with DeCrescente Distributing to bring a networking mixer to Mechanicville. Before the mixer\, there will be an orientation for all new or existing members looking to learn the full benefits of your Chamber membership investment. Immediately following\, you will have the opportunity to join your fellow Chamber members for networking\, hors d'oeuvres and drink specials\, while touring DeCrescente Distributing's new office building.
X-ALT-DESC;FMTTYPE=text/html:<span style="line-height: 20.7999992370605px\;">The Twin Bridges Council of the Saratoga County Chamber of Commerce will partner with&nbsp\;</span><span style="line-height: 20.7999992370605px\;">DeCrescente</span><span style="line-height: 20.7999992370605px\;">&nbsp\;Distributing to bring a networking mixer to&nbsp\;</span>Mechanicville<span style="line-height: 20.7999992370605px\;">. Before the mixer\, there will be an orientation for all new or existing members looking to learn the full benefits of your Chamber membership investment. Immediately following\, you will have the opportunity to join your fellow Chamber members for networking\, hors d&rsquo\;oeuvres and drink specials\, while touring&nbsp\;</span>DeCrescente<span style="line-height: 20.7999992370605px\;">&nbsp\;Distributing&rsquo\;s new office building.</span>
LOCATION:DeCrescente Distributing 211 North Main Street Mechanicville\, NY 12118
UID:e.2254.6100
SEQUENCE:3
DTSTAMP:20260423T214616Z
URL:https://chamber.saratoga.org/events/details/orientation-mixer-hosted-by-the-twin-bridges-council-03-26-2015-6100
END:VEVENT

END:VCALENDAR
