BEGIN:VCALENDAR
VERSION:2.0
PRODID:-//ChamberMaster//Event Calendar 2.0//EN
METHOD:PUBLISH
X-PUBLISHED-TTL:P3D
REFRESH-INTERVAL:P3D
CALSCALE:GREGORIAN
BEGIN:VEVENT
DTSTART:20160324T200000Z
DTEND:20160324T223000Z
X-MICROSOFT-CDO-ALLDAYEVENT:FALSE
SUMMARY:Orientation & Mixer hosted by The Twin Bridges Council
DESCRIPTION:The Twin Bridges Council will team up with DeCrescente Distributing for a mixer in Mechanicville. Join your fellow members in Southern Saratoga County for an evening of networking\, food\, and drinks in DeCrescente's newly built pub. This was one of the most popular mixers in 2015\, so be sure to join us again (or for the first time) this year! Immediately before the mixer\, Chamber President\, Todd Shimkus\, will facilitate an orientation for all new and existing members looking to maximize their membership.
X-ALT-DESC;FMTTYPE=text/html:The Twin Bridges Council will team up with DeCrescente Distributing for a mixer in Mechanicville. Join your fellow members in Southern Saratoga County for an evening of networking\, food\, and drinks in DeCrescente&rsquo\;s newly built pub. This was one of the most popular mixers in 2015\, so be sure to join us again (or for the first time) this year! Immediately before the mixer\, Chamber President\, Todd Shimkus\,&nbsp\;will facilitate an orientation for all new and existing members looking to maximize their membership.
LOCATION:DeCrescente Distributing 200 North Main Street Mechanicville
UID:e.2254.14861
SEQUENCE:3
DTSTAMP:20260422T003623Z
URL:https://chamber.saratoga.org/events/details/orientation-mixer-hosted-by-the-twin-bridges-council-03-24-2016-14861
END:VEVENT

END:VCALENDAR
