BEGIN:VCALENDAR
VERSION:2.0
PRODID:-//ChamberMaster//Event Calendar 2.0//EN
METHOD:PUBLISH
X-PUBLISHED-TTL:P3D
REFRESH-INTERVAL:P3D
CALSCALE:GREGORIAN
BEGIN:VEVENT
DTSTART:20151119T210000Z
DTEND:20151119T230000Z
X-MICROSOFT-CDO-ALLDAYEVENT:FALSE
SUMMARY:Orientation & Mixer
DESCRIPTION:Mark your calendar for one of the more popular mixers of the year! Take the opportunity to network and exchange business with your fellow Chamber members ahead of plans being put in place for 2016. Immediately before the mixer\, Chamber President\, Todd Shimkus\, will hold a new member \n\norientation for all new and existing members looking to maximize their membership.
X-ALT-DESC;FMTTYPE=text/html:Mark your calendar for one of the more popular mixers of the year! Take the opportunity to network and exchange business with your fellow Chamber members ahead of plans being put in place for 2016. Immediately before the mixer\, Chamber President\, Todd Shimkus\, will hold a new member&nbsp\;<br />\norientation for all new and existing members looking to maximize their membership.&nbsp\;
LOCATION:Longfellows Hotel & Restaurant 500 Union Avenue Saratoga Springs
UID:e.2254.12777
SEQUENCE:3
DTSTAMP:20260422T103116Z
URL:https://chamber.saratoga.org/events/details/orientation-mixer-11-19-2015-12777
END:VEVENT

END:VCALENDAR
