BEGIN:VCALENDAR
VERSION:2.0
PRODID:-//ChamberMaster//Event Calendar 2.0//EN
METHOD:PUBLISH
X-PUBLISHED-TTL:P3D
REFRESH-INTERVAL:P3D
CALSCALE:GREGORIAN
BEGIN:VEVENT
DTSTART:20141023T190000Z
DTEND:20141023T220000Z
X-MICROSOFT-CDO-ALLDAYEVENT:FALSE
SUMMARY:Orientation & Mixer
DESCRIPTION:Mix and Mingle at Vapor Night ClubYou are invited to join other members and the Saratoga County Chamber of Commerce for an evening of networking at Vapor Night Club. Before the Mixer\, there will be an Orientation\, led by President Todd Shimkus\, for new and existing members to learn all the benefits that are associated with your Chamber membership investment. Immediately following\, there will be a networking mixer for you to meet new\, andreconnect with existing\, members over food and a drink.
X-ALT-DESC;FMTTYPE=text/html:<p>Mix and Mingle at Vapor Night Club</p><p>You are invited to join other members and the Saratoga County Chamber of Commerce for an evening of networking at Vapor Night Club. Before the Mixer\, there will be an Orientation\, led by President Todd Shimkus\, for new and existing members to learn all the benefits that are associated with your Chamber membership investment. Immediately following\, there will be a networking mixer for you to meet new\, andreconnect with existing\, members over food and a drink.</p>
LOCATION:Vapor Night Club
UID:e.2254.516
SEQUENCE:3
DTSTAMP:20260424T110656Z
URL:https://chamber.saratoga.org/events/details/orientation-mixer-10-23-2014-516
END:VEVENT

END:VCALENDAR
