BEGIN:VCALENDAR
VERSION:2.0
PRODID:-//ChamberMaster//Event Calendar 2.0//EN
METHOD:PUBLISH
X-PUBLISHED-TTL:P3D
REFRESH-INTERVAL:P3D
CALSCALE:GREGORIAN
BEGIN:VEVENT
DTSTART:20140724T190000Z
DTEND:20140724T213000Z
X-MICROSOFT-CDO-ALLDAYEVENT:FALSE
SUMMARY:Orientation & Mixer
DESCRIPTION:Join us for our annual Mixer at Gaffney'sThe Saratoga County Chamber of Commerce will meet at Gaffney's for their annual July Orientation & Mixer. From 4 to 5 p.m.\, you are invited to join Chamber President\, Todd Shimkus\, for a discussion on how you can maximize your membership investment. Immediately following\, your fellow Chamber members will join for an evening of relationship building\, hors d'oeuvres and drink specials. This event always proves to be one of the most popular mixers\, so be sure to make your reservation now. Thank you to Automated & Management Solutions for sponsoring this event. \nIf you'd like to support one of our local nonprofit members and have a great parking space for the Mixer at Gaffney's\, The Academy for Lifelong Learning will be working the Saratogian parking lot where you can park just steps away for $10. Money raised goes to providing academic and social activities for area seniors.
X-ALT-DESC;FMTTYPE=text/html:<p>Join us for our annual Mixer at Gaffney's</p><p><span style="font-size: 11pt\; font-family: 'Calibri'\,'sans-serif'\; line-height: 115%\; mso-ascii-theme-font: minor-latin\; mso-fareast-font-family: Calibri\; mso-fareast-theme-font: minor-latin\; mso-hansi-theme-font: minor-latin\; mso-bidi-theme-font: minor-latin\; mso-ansi-language: EN-US\; mso-fareast-language: EN-US\; mso-bidi-language: AR-SA\;">The Saratoga County Chamber of Commerce will meet at Gaffney&rsquo\;s for their annual July Orientation &amp\; Mixer. From 4 to 5 p.m.\, you are invited to join Chamber President\, Todd Shimkus\, for a discussion on how you can maximize your membership investment. Immediately following\, your fellow Chamber members will join for an evening of relationship building\, hors d&rsquo\;oeuvres and drink specials. This event always proves to be one of the most popular mixers\, so be sure to make your reservation now. Thank you to Automated &amp\; Management Solutions for sponsoring this event. </span></p>\n<p><span style="font-size: 11pt\; font-family: 'Calibri'\,'sans-serif'\; line-height: 115%\; mso-ascii-theme-font: minor-latin\; mso-fareast-font-family: Calibri\; mso-fareast-theme-font: minor-latin\; mso-hansi-theme-font: minor-latin\; mso-bidi-theme-font: minor-latin\; mso-ansi-language: EN-US\; mso-fareast-language: EN-US\; mso-bidi-language: AR-SA\;"><span><span>If you'd like to support one of our local nonprofit members and have a great parking space for the Mixer at Gaffney's\, The Academy for Lifelong Learning will be working the Saratogian parking lot where you can park just steps away for $10. Money raised goes to providing academic and social activities for area seniors.</span></span></span></p>
LOCATION:Gaffney's
UID:e.2254.515
SEQUENCE:3
DTSTAMP:20260424T192648Z
URL:https://chamber.saratoga.org/events/details/orientation-mixer-07-24-2014-515
END:VEVENT

END:VCALENDAR
