BEGIN:VCALENDAR
VERSION:2.0
PRODID:-//ChamberMaster//Event Calendar 2.0//EN
METHOD:PUBLISH
X-PUBLISHED-TTL:P3D
REFRESH-INTERVAL:P3D
CALSCALE:GREGORIAN
BEGIN:VEVENT
DTSTART:20150423T200000Z
DTEND:20150423T223000Z
X-MICROSOFT-CDO-ALLDAYEVENT:FALSE
SUMMARY:Orientation & Mixer
DESCRIPTION:We believe in opening doors and closing deals. At the April 23rd mixer\, we invite you to celebrate the opening of the Embassy Suites while networking to build and strengthen your business relationships. You are invited to take the opportunity to visit tour the new facility while enjoying great food and a drink with your fellow Chamber members. Immediately before the mixer\, from 4 to 5 p.m.\, you are invited to join Chamber President\, Todd Shimkus\, for an Orientation to learn how you can fully utilize your Chamber membership investment. Thank you to Saratoga National Bank and Trust Company for sponsoring this event.
X-ALT-DESC;FMTTYPE=text/html:<p style="line-height:15.6pt"><span style="font-size: 10pt\; font-family: Arial\, sans-serif\;">We believe in opening doors and closing deals. At the April 23<sup>rd</sup> mixer\, we invite you to celebrate the opening of the Embassy Suites while networking to build and strengthen your business relationships. You are invited to take the opportunity to visit tour the new facility while enjoying great food and a drink with your fellow Chamber members. Immediately before the mixer\, from 4 to 5 p.m.\, you are invited to join Chamber President\, Todd Shimkus\, for an Orientation to learn how you can fully utilize your Chamber membership investment. Thank you to Saratoga National Bank and Trust Company for sponsoring this event.<o:p></o:p></span></p>\n
LOCATION:Embassy Suites 46 Congress Street Saratoga Springs
UID:e.2254.6940
SEQUENCE:3
DTSTAMP:20260423T195121Z
URL:https://chamber.saratoga.org/events/details/orientation-mixer-04-23-2015-6940
END:VEVENT

END:VCALENDAR
