BEGIN:VCALENDAR
VERSION:2.0
PRODID:-//ChamberMaster//Event Calendar 2.0//EN
METHOD:PUBLISH
X-PUBLISHED-TTL:P3D
REFRESH-INTERVAL:P3D
CALSCALE:GREGORIAN
BEGIN:VEVENT
DTSTART:20150131T150000Z
DTEND:20150131T170000Z
X-MICROSOFT-CDO-ALLDAYEVENT:FALSE
SUMMARY:Opera Saratoga Town Hall and 2015 Annual Meeting
DESCRIPTION:Opera Saratoga invites all members of the community to the 2015 Annual Meeting and Town Hall discussion with Artistic and General Director Lawrence Edelson\, to take place at the Dee Sarno Theater - Saratoga Arts Center\, 320 Broadway in downtown Saratoga Springs at 10 AM on Saturday\, January 31st.\n\nThe Annual Meeting will be led by Board President Rosemarie Rosen and The Friends of Opera Saratoga Meeting will be led by Friends' President Ellen Riley. The meeting is open to the public\, and will be followed by a Town Hall style discussion\, during which Larry will speak with the community about the recent changes at Opera Saratoga and announce exciting new projects on the horizon for the company. The Town Hall format will also provide the public with the opportunity to ask questions about the company and future plans. \n\nCoffee and pastries will be served - so please join us on January 31st\, meet our new Artistic and General Director\, and learn more about the future of YOUR opera company!\n\nPlease let us know if you are planning on attending - RSVP to Bates Childress at 518-584-6018. Free parking is available nearby in the public parking garage on the corner of Henry and Spring streets.
X-ALT-DESC;FMTTYPE=text/html:<p>Opera Saratoga invites all members of the community to the 2015 Annual Meeting and Town Hall discussion with Artistic and General Director Lawrence Edelson\, to take place at the Dee Sarno Theater - Saratoga Arts Center\, 320 Broadway in downtown Saratoga Springs at&nbsp\;10 AM on Saturday\, January 31st.</p>\n\n<p>The Annual Meeting will be led by Board President Rosemarie Rosen and The Friends of Opera Saratoga Meeting will be led by Friends&#39\; President Ellen Riley. The meeting is open to the public\, and will be followed by a Town Hall style discussion\, during which Larry will speak with the community about the recent changes at Opera Saratoga and announce exciting new projects on the horizon for the company. The Town Hall format will also provide the public with the opportunity to ask questions about the company and future plans.&nbsp\;</p>\n\n<p>Coffee and pastries will be served - so please join us on&nbsp\;January 31st\, meet our new Artistic and General Director\, and learn more about the future of YOUR opera company!</p>\n\n<p>Please let us know if you are planning on attending -&nbsp\;RSVP to Bates Childress at&nbsp\;518-584-6018. Free parking is available nearby in the public parking garage on the corner of Henry and Spring streets.</p>\n
LOCATION:Dee Sarno Theater - Saratoga Arts Center\, 320 Broadway in downtown Saratoga Springs
UID:e.2254.4803
SEQUENCE:3
DTSTAMP:20260424T015446Z
URL:https://chamber.saratoga.org/events/details/opera-saratoga-town-hall-and-2015-annual-meeting-01-31-2015-4803
END:VEVENT

END:VCALENDAR
