BEGIN:VCALENDAR
VERSION:2.0
PRODID:-//ChamberMaster//Event Calendar 2.0//EN
METHOD:PUBLISH
X-PUBLISHED-TTL:P3D
REFRESH-INTERVAL:P3D
CALSCALE:GREGORIAN
BEGIN:VEVENT
DTSTART:20160430T190000Z
DTEND:20160430T203000Z
X-MICROSOFT-CDO-ALLDAYEVENT:FALSE
SUMMARY:Opera Saratoga: Saratoga Springs of Art and Inspiration
DESCRIPTION:Join Opera Saratoga in the Hyde House courtyard for opera and song inspired by great artists and works of art! Soprano Evan Kardon\, tenor Dominick Corbaccio\, and pianist Laurie Rogers will be featured.
X-ALT-DESC;FMTTYPE=text/html:Join Opera Saratoga in the Hyde House courtyard for opera and song inspired by great artists and works of art! Soprano Evan Kardon\, tenor Dominick Corbaccio\, and pianist Laurie Rogers will be featured.
LOCATION:The Hyde Collection 161 Warren Street Glens Falls\, NY 12801
UID:e.2254.15654
SEQUENCE:3
DTSTAMP:20260421T164415Z
URL:https://chamber.saratoga.org/events/details/opera-saratoga-saratoga-springs-of-art-and-inspiration-04-30-2016-15654
END:VEVENT

END:VCALENDAR
