BEGIN:VCALENDAR
VERSION:2.0
PRODID:-//ChamberMaster//Event Calendar 2.0//EN
METHOD:PUBLISH
X-PUBLISHED-TTL:P3D
REFRESH-INTERVAL:P3D
CALSCALE:GREGORIAN
BEGIN:VEVENT
DTSTART:20150621T180000Z
DTEND:20150621T200000Z
X-MICROSOFT-CDO-ALLDAYEVENT:FALSE
SUMMARY:Opera Saratoga and The National Musuem of Dance Present If It Ain?t Baroque?
DESCRIPTION:In honor of Opera Saratoga's first production of a Baroque opera\, members of the Young Artist Program will perform a program of arias and ensembles from a wide variety of Baroque operas on Sunday\, June 21st at 2:00 pm in the Mr. and Mrs. Ronald A Riggi Theater at The National Museum of Dance\, in Saratoga Springs\, NY. The singers will perform works by Handel\, Vivaldi\, Scarlatti\, Lully Rameau and Purcell. The day will also include a very special preview of Opera Saratoga's upcoming production of Dido and Aeneas.
X-ALT-DESC;FMTTYPE=text/html:In honor of Opera Saratoga&#39\;s first production of a Baroque opera\, members of the Young Artist Program will perform a program of arias and ensembles from a wide variety of Baroque operas on Sunday\, June 21st at 2:00 pm in the Mr. and Mrs. Ronald A Riggi Theater at The National Museum of Dance\, in Saratoga Springs\, NY. The singers will perform works by Handel\, Vivaldi\, Scarlatti\, Lully Rameau and Purcell. The day will also include a very special preview of Opera Saratoga&#39\;s upcoming production of Dido and Aeneas.
LOCATION:The Mr. and Mrs. Ronald A Riggi Theater at The National Museum of Dance 99 South Broadway Saratoga Springs\, NY 12866
UID:e.2254.9616
SEQUENCE:3
DTSTAMP:20260423T074206Z
URL:https://chamber.saratoga.org/events/details/opera-saratoga-and-the-national-musuem-of-dance-present-if-it-ain-t-baroque-06-21-2015-9616
END:VEVENT

END:VCALENDAR
