BEGIN:VCALENDAR
VERSION:2.0
PRODID:-//ChamberMaster//Event Calendar 2.0//EN
METHOD:PUBLISH
X-PUBLISHED-TTL:P3D
REFRESH-INTERVAL:P3D
CALSCALE:GREGORIAN
BEGIN:VEVENT
DTSTART:20161025T143000Z
DTEND:20161025T153000Z
X-MICROSOFT-CDO-ALLDAYEVENT:FALSE
SUMMARY:OPERA SARATOGA
DESCRIPTION:Celebrate National Opera Week with the return of Saratoga Sings! for Seniors. The concerts will feature a variety of beloved arias\, duets and songs. OCT. 25 at 10:30 AM. FREE AND OPEN TO THE PUBLIC.
X-ALT-DESC;FMTTYPE=text/html:Celebrate National Opera Week with the return of Saratoga Sings! for Seniors. The concerts will feature a variety of beloved arias\, duets and songs. OCT. 25 at 10:30 AM. FREE AND OPEN TO THE PUBLIC.
LOCATION:Saratoga Senior Center 5 Williams Street Saratoga Springs\, NY 12866
UID:e.2254.20818
SEQUENCE:3
DTSTAMP:20260420T230016Z
URL:https://chamber.saratoga.org/events/details/opera-saratoga-20818
END:VEVENT

END:VCALENDAR
