BEGIN:VCALENDAR
VERSION:2.0
PRODID:-//ChamberMaster//Event Calendar 2.0//EN
METHOD:PUBLISH
X-PUBLISHED-TTL:P3D
REFRESH-INTERVAL:P3D
CALSCALE:GREGORIAN
BEGIN:VEVENT
DTSTART:20150326T213000Z
DTEND:20150326T230000Z
X-MICROSOFT-CDO-ALLDAYEVENT:FALSE
SUMMARY:Opening Reception for Jeffrey Elgin
DESCRIPTION:Opening Reception for Jeffrey Elgin 5:30 p.m.-Schick Art Gallery\, Saisselin Art Building For information call 518-580-5049
X-ALT-DESC;FMTTYPE=text/html:Opening Reception for Jeffrey Elgin 5:30 p.m.-Schick Art Gallery\, Saisselin Art Building For information call 518-580-5049
LOCATION:Schick Art Gallery\, Skidmore College 815 N Broadway Saratoga Springs\, NY 12866
UID:e.2254.6698
SEQUENCE:3
DTSTAMP:20260423T214015Z
URL:https://chamber.saratoga.org/events/details/opening-reception-for-jeffrey-elgin-03-26-2015-6698
END:VEVENT

END:VCALENDAR
