BEGIN:VCALENDAR
VERSION:2.0
PRODID:-//ChamberMaster//Event Calendar 2.0//EN
METHOD:PUBLISH
X-PUBLISHED-TTL:P3D
REFRESH-INTERVAL:P3D
CALSCALE:GREGORIAN
BEGIN:VEVENT
DTSTART:20140724T183000Z
DTEND:20140724T200000Z
X-MICROSOFT-CDO-ALLDAYEVENT:FALSE
SUMMARY:Opening Reception - 07/24/2014
DESCRIPTION:Skidmore Summer Art Faculty Exhibition Opening ReceptionOpening Reception Summer Art Faculty Exhibition 4:30 p.m.-Schick Art Gallery For more information call 518-580-5049
X-ALT-DESC;FMTTYPE=text/html:<p>Skidmore Summer Art Faculty Exhibition Opening Reception</p><p><span>Opening Reception</span></p> <p><span>Summer Art Faculty Exhibition</span></p> <p><span>4:30 p.m.-Schick Art Gallery</span></p> <span style="font-size: 12pt\; font-family: Times New Roman\,serif\;">For more information call 518-580-5049</span>
LOCATION:Schick Art Gallery
UID:e.2254.3410
SEQUENCE:3
DTSTAMP:20260424T163617Z
URL:https://chamber.saratoga.org/events/details/opening-reception-07-24-2014-07-24-2014-3410
END:VEVENT

END:VCALENDAR
