BEGIN:VCALENDAR
VERSION:2.0
PRODID:-//ChamberMaster//Event Calendar 2.0//EN
METHOD:PUBLISH
X-PUBLISHED-TTL:P3D
REFRESH-INTERVAL:P3D
CALSCALE:GREGORIAN
BEGIN:VEVENT
DTSTART:20150725T233000Z
DTEND:20150726T020000Z
X-MICROSOFT-CDO-ALLDAYEVENT:FALSE
SUMMARY:Open Season
DESCRIPTION:The Lake George Theater Lab and The Sembrich offer a staged reading of a brand new musical by Bill Cain with music and lyrics by Nicholas Williams and Micah Bucey.
X-ALT-DESC;FMTTYPE=text/html:The Lake George Theater Lab and The Sembrich offer a staged reading of a brand new musical by Bill Cain with music and lyrics by Nicholas Williams and Micah Bucey.
LOCATION:The Sembrich\, 4800 Lakeshore Drive\, Bolton Landing\, NY
UID:e.2254.10036
SEQUENCE:3
DTSTAMP:20260423T040129Z
URL:https://chamber.saratoga.org/events/details/open-season-07-25-2015-10036
END:VEVENT

END:VCALENDAR
