BEGIN:VCALENDAR
VERSION:2.0
PRODID:-//ChamberMaster//Event Calendar 2.0//EN
METHOD:PUBLISH
X-PUBLISHED-TTL:P3D
REFRESH-INTERVAL:P3D
CALSCALE:GREGORIAN
BEGIN:VEVENT
DTSTART:20150527T230000Z
DTEND:20150528T020000Z
X-MICROSOFT-CDO-ALLDAYEVENT:FALSE
SUMMARY:Open Mike Blues
DESCRIPTION:Open mic sign-up will start at 7PM. Opening set starts at 7:30\, The open mic portion of the evening starts around 8pm\, followed by the acoustic Jam. All levels of playing are welcome. This is a monthly event on the 4th Wednesday of the month. Come on down to listen and play the Blues! Admission will be $5. One of Saratoga best musical values!
X-ALT-DESC;FMTTYPE=text/html:Open mic sign-up will start at 7PM. Opening set starts at 7:30\, The open mic portion of the evening starts around 8pm\, followed by the acoustic Jam. All levels of playing are welcome. This is a monthly event on the 4th Wednesday of the month. Come on down to listen and play the Blues! Admission will be $5. One of Saratoga best musical values!
LOCATION:Caf Lena 47 Phila Street
UID:e.2254.8338
SEQUENCE:3
DTSTAMP:20260423T165804Z
URL:https://chamber.saratoga.org/events/details/open-mike-blues-05-27-2015-8338
END:VEVENT

END:VCALENDAR
