BEGIN:VCALENDAR
VERSION:2.0
PRODID:-//ChamberMaster//Event Calendar 2.0//EN
METHOD:PUBLISH
X-PUBLISHED-TTL:P3D
REFRESH-INTERVAL:P3D
CALSCALE:GREGORIAN
BEGIN:VEVENT
DTSTART:20160227T160000Z
DTEND:20160227T180000Z
X-MICROSOFT-CDO-ALLDAYEVENT:FALSE
SUMMARY:OPEN HOUSE Bilingual Preschool
DESCRIPTION:Begin with a spark! You are invited to Genius Plaza's Welcome to Bilingual Preschool Open House. Teachers and parents welcome you to take a school tour and give you more details about our unique bilingual and international programs. From the very first day of preschool\, the Genius Plaza is sparking the flame of success even in our youngest students through creative and individualized learning experiences in every classroom. Give your child the gift of bilingualism in a fun and interactive environment. The Genius Plaza's mission is to shape lifelong learners to think and speak in different languages and apply their knowledge anywhere in the world. Join us for Genius Plaza's Welcome to Bilingual Preschool Open House and experience our commitment to every student\, every day. Age Group: Parents are welcome to bring their children (2 to 5 yrs) Venue: The Genius Plaza 509 Moe Road Clifton Park\, NY 12065 For questions: Call: 518-280-9550
X-ALT-DESC;FMTTYPE=text/html:Begin with a spark! You are invited to Genius Plaza&#39\;s Welcome to Bilingual Preschool Open House. Teachers and parents welcome you to take a school tour and give you more details about our unique bilingual and international programs. From the very first day of preschool\, the Genius Plaza is sparking the flame of success even in our youngest students through creative and individualized learning experiences in every classroom. Give your child the gift of bilingualism in a fun and interactive environment. The Genius Plaza&#39\;s mission is to shape lifelong learners to think and speak in different languages and apply their knowledge anywhere in the world. Join us for Genius Plaza&#39\;s Welcome to Bilingual Preschool Open House and experience our commitment to every student\, every day. Age Group: Parents are welcome to bring their children (2 to 5 yrs) Venue: The Genius Plaza 509 Moe Road Clifton Park\, NY 12065 For questions: Call: 518-280-9550
LOCATION:The Genius Plaza - 509 Moe Road\, Clifton Park\, NY 12065
UID:e.2254.13136
SEQUENCE:3
DTSTAMP:20260422T022504Z
URL:https://chamber.saratoga.org/events/details/open-house-bilingual-preschool-02-27-2016-13136
END:VEVENT

END:VCALENDAR
