BEGIN:VCALENDAR
VERSION:2.0
PRODID:-//ChamberMaster//Event Calendar 2.0//EN
METHOD:PUBLISH
X-PUBLISHED-TTL:P3D
REFRESH-INTERVAL:P3D
CALSCALE:GREGORIAN
BEGIN:VEVENT
DTSTART:20161016T120000Z
DTEND:20161016T170000Z
X-MICROSOFT-CDO-ALLDAYEVENT:FALSE
SUMMARY:Open House
DESCRIPTION:Join us for a fun filled day of free classes\, free orientations/tours and assessments\, amazing discounts\, local vendors (see list below)\, and the chance to win a lot of free stuff!!!!\n\n9 Miles East Farm\n\nEssential Oils\n\nPampered Chef\n\nMassages\n\nand many more Local Businesses and Vendors!!\n\n\n\nWin a free year membership\, training sessions\, class packages\, and much more!!!!
X-ALT-DESC;FMTTYPE=text/html:Join us for a fun filled day of free classes\, free orientations/tours and assessments\, amazing discounts\, local vendors (see list below)\, and the chance to win a lot of free stuff!!!!<br />\n9 Miles East Farm<br />\nEssential Oils<br />\nPampered Chef<br />\nMassages<br />\nand many more Local Businesses and Vendors!!<br />\n<br />\nWin a free year membership\, training sessions\, class packages\, and much more!!!!
LOCATION:Custom Fitness 23 Northern Pines Road\, Suite 1101 Wilton\, NY 12831
UID:e.2254.20786
SEQUENCE:3
DTSTAMP:20260420T214313Z
URL:https://chamber.saratoga.org/events/details/open-house-20786
END:VEVENT

END:VCALENDAR
