BEGIN:VCALENDAR
VERSION:2.0
PRODID:-//ChamberMaster//Event Calendar 2.0//EN
METHOD:PUBLISH
X-PUBLISHED-TTL:P3D
REFRESH-INTERVAL:P3D
CALSCALE:GREGORIAN
BEGIN:VEVENT
DTSTART:20150512T203000Z
DTEND:20150512T223000Z
X-MICROSOFT-CDO-ALLDAYEVENT:FALSE
SUMMARY:Open House
DESCRIPTION:Open House at Saratoga Hospital's New Midwifery and Women's Primary Care Practice stop in ask questions meet the providers refreshments will be served.
X-ALT-DESC;FMTTYPE=text/html:Open House at Saratoga Hospital&#39\;s New Midwifery and Women&#39\;s Primary Care Practice stop in ask questions meet the providers refreshments will be served.
LOCATION:2911 Route 9\, Building 1\, Ballston Spa (Stewart's Corporate Park)
UID:e.2254.7655
SEQUENCE:3
DTSTAMP:20260423T213821Z
URL:https://chamber.saratoga.org/events/details/open-house-05-12-2015-7655
END:VEVENT

END:VCALENDAR
