BEGIN:VCALENDAR
VERSION:2.0
PRODID:-//ChamberMaster//Event Calendar 2.0//EN
METHOD:PUBLISH
X-PUBLISHED-TTL:P3D
REFRESH-INTERVAL:P3D
CALSCALE:GREGORIAN
BEGIN:VEVENT
DTSTART:20160517T113000Z
DTEND:20160517T130000Z
X-MICROSOFT-CDO-ALLDAYEVENT:FALSE
SUMMARY:Open Forum featuring local Supervisors hosted by the Twin Bridges Council
DESCRIPTION:As a business owner\, manager\, nonprofit executive or other community leader\, please join us Tuesday\, May 17th\, 2016 for an open forum with the Town Supervisors of Ballston\, Malta and Stillwater. Each Supervisor will provide updates on their respective towns\; to include opportunities and challenges.
X-ALT-DESC;FMTTYPE=text/html:<span style="font-family:arial\;"><span style="font-size:12px\;">As a business owner\, manager\, nonprofit executive or other community leader\, please join us Tuesday\, May 17<sup>th</sup>\, 2016 for an open forum with the Town Supervisors of Ballston\, Malta and Stillwater. Each Supervisor will provide updates on their respective towns\; to include opportunities and challenges.&nbsp\;</span></span>
LOCATION:Hyatt Place Saratoga/Malta 20 State Farm Plaza Malta
UID:e.2254.16460
SEQUENCE:3
DTSTAMP:20260421T181342Z
URL:https://chamber.saratoga.org/events/details/open-forum-featuring-local-supervisors-hosted-by-the-twin-bridges-council-05-17-2016-16460
END:VEVENT

END:VCALENDAR
