BEGIN:VCALENDAR
VERSION:2.0
PRODID:-//ChamberMaster//Event Calendar 2.0//EN
METHOD:PUBLISH
X-PUBLISHED-TTL:P3D
REFRESH-INTERVAL:P3D
CALSCALE:GREGORIAN
BEGIN:VEVENT
DTSTART:20150422T233000Z
DTEND:20150423T013000Z
X-MICROSOFT-CDO-ALLDAYEVENT:FALSE
SUMMARY:Open Blues Night
DESCRIPTION:This month's Open Mic at Caffe Lena\, Wed 4/22/2015. Sonny Speed will be hosting as usual - And our guests for the opening showcase will be SABS very own old guitar expert\, Ray Giguere\, and our very own Blues harpist\, Dave Scheffel. Caff  Lena\, 47 Phila St\, Saratoga Springs\, NY Open mic sign-up will start at 7PM. Opening set starts at 7:30.  The open mic portion of the evening starts around 8pm\, followed by the acoustic Jam. All levels of playing are welcome. This is a monthly event on the 4th Wednesday of the month. Come on down to listen and play the Blues! Admission will be $5. One of Saratoga's best musical values!
X-ALT-DESC;FMTTYPE=text/html:This month&#39\;s Open Mic at Caffe Lena\, Wed 4/22/2015. Sonny Speed will be hosting as usual - And our guests for the opening showcase will be SABS very own old guitar expert\, Ray Giguere\, and our very own Blues harpist\, Dave Scheffel. Caff&eacute\; Lena\, 47 Phila St\, Saratoga Springs\, NY Open mic sign-up will start at 7PM. Opening set starts at 7:30.&nbsp\; The open mic portion of the evening starts around 8pm\, followed by the acoustic Jam. All levels of playing are welcome. This is a monthly event on the 4th Wednesday of the month. Come on down to listen and play the Blues! Admission will be $5. One of Saratoga&#39\;s best musical values!
LOCATION:Caf Lena - 47 Phila Street\, Saratoga Springs NY
UID:e.2254.7758
SEQUENCE:3
DTSTAMP:20260423T195828Z
URL:https://chamber.saratoga.org/events/details/open-blues-night-04-22-2015-7758
END:VEVENT

END:VCALENDAR
