BEGIN:VCALENDAR
VERSION:2.0
PRODID:-//ChamberMaster//Event Calendar 2.0//EN
METHOD:PUBLISH
X-PUBLISHED-TTL:P3D
REFRESH-INTERVAL:P3D
CALSCALE:GREGORIAN
BEGIN:VEVENT
DTSTART:20161019T200000Z
DTEND:20161019T220000Z
X-MICROSOFT-CDO-ALLDAYEVENT:FALSE
SUMMARY:Online Security for Small Businesses
DESCRIPTION:Your organization deals with confidential information every day\; from employee personnel records to emails containing sensitive information like financial documents. What most firms don't realize is that their online habits and record keeping might not just be out of compliance - but also against the law. Discover the legal and practical aspects of ensuring that your organization is keeping employee and vendor information secure in this complimentary presentation by DAVIN Healthcare Solutions. Please do note\, this presentation is geared toward businesses that are not covered under a comprehensive federal regime like Gramm-Leach-Bliley\, but is great for any small business or entrepreneur. Event includes networking\, the formal presentation + Q&A session + light happy hour refreshments.
X-ALT-DESC;FMTTYPE=text/html:Your organization deals with confidential information every day\; from employee personnel records to emails containing sensitive information like financial documents. What most firms don&rsquo\;t realize is that their online habits and record keeping might not just be out of compliance - but also against the law. Discover the legal and practical aspects of ensuring that your organization is keeping employee and vendor information secure in this complimentary presentation by DAVIN Healthcare Solutions. Please do note\, this presentation is geared toward businesses that are not covered under a comprehensive federal regime like Gramm-Leach-Bliley\, but is great for any small business or entrepreneur. Event includes networking\, the formal presentation + Q&amp\;A session + light happy hour refreshments.
LOCATION:18 Division Street Suite 312 Saratoga Springs\, NY 12866
UID:e.2254.20801
SEQUENCE:3
DTSTAMP:20260421T002324Z
URL:https://chamber.saratoga.org/events/details/online-security-for-small-businesses-20801
END:VEVENT

END:VCALENDAR
