BEGIN:VCALENDAR
VERSION:2.0
PRODID:-//ChamberMaster//Event Calendar 2.0//EN
METHOD:PUBLISH
X-PUBLISHED-TTL:P3D
REFRESH-INTERVAL:P3D
CALSCALE:GREGORIAN
BEGIN:VEVENT
DTSTART:20150314T000000Z
DTEND:20150314T020000Z
X-MICROSOFT-CDO-ALLDAYEVENT:FALSE
SUMMARY:ONE NIGHT ONLY THEATRESPORTS MATCH
DESCRIPTION:A special ONE NIGHT ONLY THEATRESPORTS MATCH MOPCO VS WHISKEY\, WAKEFIELD\, WHISKEY! Rhode Island's Finest! Come cheer the home team in an interstate match for the record books
X-ALT-DESC;FMTTYPE=text/html:A special ONE NIGHT ONLY THEATRESPORTS MATCH MOPCO VS WHISKEY\, WAKEFIELD\, WHISKEY! Rhode Island&#39\;s Finest! Come cheer the home team in an interstate match for the record books
LOCATION:Underground at Proctors 432 State St Schenectady\, NY
UID:e.2254.6172
SEQUENCE:3
DTSTAMP:20260423T214616Z
URL:https://chamber.saratoga.org/events/details/one-night-only-theatresports-match-03-13-2015-6172
END:VEVENT

END:VCALENDAR
