BEGIN:VCALENDAR
VERSION:2.0
PRODID:-//ChamberMaster//Event Calendar 2.0//EN
METHOD:PUBLISH
X-PUBLISHED-TTL:P3D
REFRESH-INTERVAL:P3D
CALSCALE:GREGORIAN
BEGIN:VEVENT
DTSTART:20160311T000000Z
DTEND:20160311T020000Z
X-MICROSOFT-CDO-ALLDAYEVENT:FALSE
SUMMARY:On Rockwell: Tom Daly from the Norman Rockwell Museum
DESCRIPTION:Learn about the powerful images that Norman Rockwell created during the Civil Rights Movement of the 1960s. Norman Rockwell Museum?s curator of education\, Tom Daly\, will share the stories behind the creation of such paintings as The Problem We All Live With\, Murder in Mississippi\, and New Kids in the Neighborhood\, as well as Rockwell?s dedication to Civil Rights throughout his career. Tom Daly has served tens of thousands of pre-K to graduate-level students in his programs\, lectured at colleges and museums across the country\, and written many articles about Norman Rockwell and the work that Rockwell created during his nearly 70-year career as an illustrator.
X-ALT-DESC;FMTTYPE=text/html:Learn about the powerful images that Norman Rockwell created during the Civil Rights Movement of the 1960s. Norman Rockwell Museum?s curator of education\, Tom Daly\, will share the stories behind the creation of such paintings as The Problem We All Live With\, Murder in Mississippi\, and New Kids in the Neighborhood\, as well as Rockwell?s dedication to Civil Rights throughout his career. Tom Daly has served tens of thousands of pre-K to graduate-level students in his programs\, lectured at colleges and museums across the country\, and written many articles about Norman Rockwell and the work that Rockwell created during his nearly 70-year career as an illustrator.
LOCATION:THE HYDE COLLECTION 161 WARREN STREET . GLENS FALLS . NY. 12801
UID:e.2254.14869
SEQUENCE:3
DTSTAMP:20260422T004217Z
URL:https://chamber.saratoga.org/events/details/on-rockwell-tom-daly-from-the-norman-rockwell-museum-03-10-2016-14869
END:VEVENT

END:VCALENDAR
