BEGIN:VCALENDAR
VERSION:2.0
PRODID:-//ChamberMaster//Event Calendar 2.0//EN
METHOD:PUBLISH
X-PUBLISHED-TTL:P3D
REFRESH-INTERVAL:P3D
CALSCALE:GREGORIAN
BEGIN:VEVENT
DTSTART:20140727T110000Z
DTEND:20140727T140000Z
X-MICROSOFT-CDO-ALLDAYEVENT:FALSE
SUMMARY:Om for a Cause - 07/27/2014
DESCRIPTION:Yoga in the ParkJoin us for an epic yoga class\, hosted by the Saratoga Regional YMCA\, on Sunday\, July 27th\, from 9:00 am until 12:00 pm in Spa State Park (near the reflecting pool). We are excited to announce that local teachers Susan Paschal\, Clover Schwartz and Kim Beekman\, will be leading the flow!Open to all members and non-members! Bring your mats and your friends! You are welcome to come for all 3 hours or stop in for a quick 20 minute vinyasa- it’s up to you!There is a suggested donation of $10. All proceeds will be going towards the annual We Build People scholarship campaign\, which provides memberships to those in need.For more information\, please contact Molly at 587-3000\, ext. 150\, or Katie at 583-9622\, ext. 134.
X-ALT-DESC;FMTTYPE=text/html:<p>Yoga in the Park</p><p style="text-align: left\; margin-top: 0.2em\; margin-bottom: 0.8em\; line-height: 1.3em\; font-family: Verdana\, Arial\, sans-serif\; font-size: 14px\; background-color: rgb(255\, 255\, 255)\;">Join us for an epic yoga class\, hosted by the Saratoga Regional YMCA\, on Sunday\, July 27th\, from 9:00 am until 12:00 pm in Spa State Park (near the reflecting pool). We are excited to announce that local teachers Susan Paschal\, Clover Schwartz and Kim Beekman\, will be leading the flow!</p><p style="text-align: left\; margin-top: 0.2em\; margin-bottom: 0.8em\; line-height: 1.3em\; font-family: Verdana\, Arial\, sans-serif\; font-size: 14px\; background-color: rgb(255\, 255\, 255)\;">Open to all members and non-members! Bring your mats and your friends! You are welcome to come for all 3 hours or stop in for a quick 20 minute vinyasa- it’s up to you!</p><p style="text-align: left\; margin-top: 0.2em\; margin-bottom: 0.8em\; line-height: 1.3em\; font-family: Verdana\, Arial\, sans-serif\; font-size: 14px\; background-color: rgb(255\, 255\, 255)\;">There is a suggested donation of $10. All proceeds will be going towards the annual We Build People scholarship campaign\, which provides memberships to those in need.</p><p style="text-align: left\; margin-top: 0.2em\; margin-bottom: 0.8em\; line-height: 1.3em\; font-family: Verdana\, Arial\, sans-serif\; font-size: 14px\; background-color: rgb(255\, 255\, 255)\;">For more information\, please contact Molly at 587-3000\, ext. 150\, or Katie&nbsp\;at 583-9622\, ext. 134.</p>
LOCATION:Spa State Park\, Reflection Pool Area
UID:e.2254.3352
SEQUENCE:3
DTSTAMP:20260424T192810Z
URL:https://chamber.saratoga.org/events/details/om-for-a-cause-07-27-2014-07-27-2014-3352
END:VEVENT

END:VCALENDAR
