BEGIN:VCALENDAR
VERSION:2.0
PRODID:-//ChamberMaster//Event Calendar 2.0//EN
METHOD:PUBLISH
X-PUBLISHED-TTL:P3D
REFRESH-INTERVAL:P3D
CALSCALE:GREGORIAN
BEGIN:VEVENT
DTSTART:20160929T210000Z
DTEND:20160929T230000Z
X-MICROSOFT-CDO-ALLDAYEVENT:FALSE
SUMMARY:Olde Saratoga Brewing/DeCresente Distributing End of Summer Promotion
DESCRIPTION:Help us celebrate the end of our summer campaign for Saratoga WarHorse. Join us for a check presentation of this year's campaign. Test our flights of our Death Wish Coffee beers Try tasty appetizers by Fire & Knife
X-ALT-DESC;FMTTYPE=text/html:Help us celebrate the end of our summer campaign for Saratoga WarHorse. Join us for a check presentation of this year&#39\;s campaign. Test our flights of our Death Wish Coffee beers Try tasty appetizers by Fire &amp\; Knife
LOCATION:Olde Saratoga Brewery 131 Excelsior Ave\, Saratoga Springs\, NY 12866
UID:e.2254.20720
SEQUENCE:3
DTSTAMP:20260420T232051Z
URL:https://chamber.saratoga.org/events/details/olde-saratoga-brewing-decresente-distributing-end-of-summer-promotion-20720
END:VEVENT

END:VCALENDAR
