BEGIN:VCALENDAR
VERSION:2.0
PRODID:-//ChamberMaster//Event Calendar 2.0//EN
METHOD:PUBLISH
X-PUBLISHED-TTL:P3D
REFRESH-INTERVAL:P3D
CALSCALE:GREGORIAN
BEGIN:VEVENT
DTSTART:20150303T230000Z
DTEND:20150304T020000Z
X-MICROSOFT-CDO-ALLDAYEVENT:FALSE
SUMMARY:Old Friends at Cabin Creek Rai$ing Dough
DESCRIPTION:Rai$ing Dough - A benefit for Old Friends at Cabin Creek\, Saratoga?s only Thoroughbred Retirement Farm\, will be held The West Side Sports Bar & Grill located at 112 Congress Street\, Saratoga Springs\, NY\, Tuesday\, March 3\, 2015 from 6 PM -9 PM raffle for a $50 gift certificate to The West Side Sports Bar & Grill\, raffles for gift certificates from local merchants and a silent auction.20% of food and beverage and take out sales will be donated to Old Friends at Cabin Creek. Donations will be gratefully accepted. Old Friends at Cabin Creek is a 501(c)3 organization staffed 100% by volunteers Follow us on FB
X-ALT-DESC;FMTTYPE=text/html:Rai$ing Dough - A benefit for Old Friends at Cabin Creek\, Saratoga?s only Thoroughbred Retirement Farm\, will be held The West Side Sports Bar &amp\; Grill located at 112 Congress Street\, Saratoga Springs\, NY\, Tuesday\, March 3\, 2015 from 6 PM -9 PM raffle for a $50 gift certificate to The West Side Sports Bar &amp\; Grill\, raffles for gift certificates from local merchants and a silent auction.20% of food and beverage and take out sales will be donated to Old Friends at Cabin Creek. Donations will be gratefully accepted. Old Friends at Cabin Creek is a 501(c)3 organization staffed 100% by volunteers Follow us on FB
LOCATION:The West Side Sports Bar & Grill 112 Congress Street\, Saratoga Springs\, NY
UID:e.2254.6046
SEQUENCE:3
DTSTAMP:20260423T214615Z
URL:https://chamber.saratoga.org/events/details/old-friends-at-cabin-creek-rai-ing-dough-03-03-2015-6046
END:VEVENT

END:VCALENDAR
