BEGIN:VCALENDAR
VERSION:2.0
PRODID:-//ChamberMaster//Event Calendar 2.0//EN
METHOD:PUBLISH
X-PUBLISHED-TTL:P3D
REFRESH-INTERVAL:P3D
CALSCALE:GREGORIAN
BEGIN:VEVENT
DTSTART:20150803T220000Z
DTEND:20150804T020000Z
X-MICROSOFT-CDO-ALLDAYEVENT:FALSE
SUMMARY:Old Friends at Cabin Creek 6th Annual Cocktail Party
DESCRIPTION:Old Friends at Cabin Creek & Rosie Napravnik invite you to spend a beautiful night out in Saratoga Springs as we present Jack Knowlton with our "Old Friends" award. Jack is being recognized for his contributions to racing and his support of Old Friends and dignified retirement for all racehorses. hors d'oeuvres\, dinner\, cash bar\, live auction. Tickets are $100 and can be purchased in advance at: www.oldfriendsatcabincreek.com
X-ALT-DESC;FMTTYPE=text/html:Old Friends at Cabin Creek &amp\; Rosie Napravnik invite you to spend a beautiful night out in Saratoga Springs as we present Jack Knowlton with our &quot\;Old Friends&quot\; award. Jack is being recognized for his contributions to racing and his support of Old Friends and dignified retirement for all racehorses. hors d&#39\;oeuvres\, dinner\, cash bar\, live auction. Tickets are $100 and can be purchased in advance at: www.oldfriendsatcabincreek.com
LOCATION:Siro's located at 168 Lincoln Avenue\, Saratoga Springs\, NY
UID:e.2254.10004
SEQUENCE:3
DTSTAMP:20260423T024058Z
URL:https://chamber.saratoga.org/events/details/old-friends-at-cabin-creek-6th-annual-cocktail-party-08-03-2015-10004
END:VEVENT

END:VCALENDAR
